BEGIN:VCALENDAR
VERSION:2.0
PRODID:-//MoreDirt v1.0//EN
BEGIN:VEVENT
DTSTAMP:20150730T130000Z
ORGANIZER;CN=Alan Dury:MAILTO:
STATUS:CONFIRMED
UID:MORESPORTSNETWORK1164
DTSTART:20150802T080000Z
DTEND:20150802T120000Z
SUMMARY:South West XC Series RD3 - Falmouth Bike Park
DESCRIPTION:South West XC Series RD3 - Falmouth Bike Park - more details: https://www.moredirt.com/event/1164
X-ALT-DESC;FMTTYPE=text/html:South West XC Series RD3 - Falmouth Bike Park - more details: https://www.moredirt.com/event/1164
LOCATION:
END:VEVENT
END:VCALENDAR