BEGIN:VCALENDAR
VERSION:2.0
PRODID:-//MoreDirt v1.0//EN
BEGIN:VEVENT
DTSTAMP:20150730T130000Z
ORGANIZER;CN=Alan Dury:MAILTO:
STATUS:CONFIRMED
UID:MORESPORTSNETWORK1163
DTSTART:20150614T080000Z
DTEND:20150614T120000Z
SUMMARY:South West XC Series RD2 - Grogley Woods
DESCRIPTION:South West XC Series RD2 - Grogley Woods - more details: https://www.moredirt.com/event/1163
X-ALT-DESC;FMTTYPE=text/html:South West XC Series RD2 - Grogley Woods - more details: https://www.moredirt.com/event/1163
LOCATION:
END:VEVENT
END:VCALENDAR