BEGIN:VCALENDAR
VERSION:2.0
PRODID:-//MoreDirt v1.0//EN
BEGIN:VEVENT
DTSTAMP:20150730T130000Z
ORGANIZER;CN=Steve Hodgson:MAILTO:
STATUS:CONFIRMED
UID:MORESPORTSNETWORK1162
DTSTART:20150425T080000Z
DTEND:20150425T120000Z
SUMMARY:South West XC Series RD1 - Grammercoombe Woods
DESCRIPTION:South West XC Series RD1 - Grammercoombe Woods - more details: https://www.moredirt.com/event/1162
X-ALT-DESC;FMTTYPE=text/html:South West XC Series RD1 - Grammercoombe Woods - more details: https://www.moredirt.com/event/1162
LOCATION:
END:VEVENT
END:VCALENDAR