BEGIN:VCALENDAR
VERSION:2.0
PRODID:-//MoreDirt v1.0//EN
BEGIN:VEVENT
DTSTAMP:20150730T130000Z
ORGANIZER;CN=Bridgnorth CC:MAILTO:
STATUS:CONFIRMED
UID:MORESPORTSNETWORK1160
DTSTART:20150809T080000Z
DTEND:20150809T120000Z
SUMMARY:Midlands XC MTB Series - RD 7 - Dudmaston
DESCRIPTION:Midlands XC MTB Series - RD 7 - Dudmaston - more details: https://www.moredirt.com/event/1160
X-ALT-DESC;FMTTYPE=text/html:Midlands XC MTB Series - RD 7 - Dudmaston - more details: https://www.moredirt.com/event/1160
LOCATION:
END:VEVENT
END:VCALENDAR