BEGIN:VCALENDAR
VERSION:2.0
PRODID:-//MoreDirt v1.0//EN
BEGIN:VEVENT
DTSTAMP:20150730T130000Z
ORGANIZER;CN=RLSCC:MAILTO:
STATUS:CONFIRMED
UID:MORESPORTSNETWORK1154
DTSTART:20150412T080000Z
DTEND:20150412T120000Z
SUMMARY:Midlands XC MTB Series - RD 1 - Cannock Chase
DESCRIPTION:Midlands XC MTB Series - RD 1 - Cannock Chase - more details: https://www.moredirt.com/event/1154
X-ALT-DESC;FMTTYPE=text/html:Midlands XC MTB Series - RD 1 - Cannock Chase - more details: https://www.moredirt.com/event/1154
LOCATION:
END:VEVENT
END:VCALENDAR