BEGIN:VCALENDAR
VERSION:2.0
PRODID:-//MoreDirt v1.0//EN
BEGIN:VEVENT
DTSTAMP:20150730T130000Z
ORGANIZER;CN=Evans Cycles:MAILTO:
STATUS:CONFIRMED
UID:MORESPORTSNETWORK1148
DTSTART:20151205T080000+0000
DTEND:20151205T120000+0000
SUMMARY:Evans Cycles Hampshire MTB Ride
DESCRIPTION:Evans Cycles Hampshire MTB Ride - more details: https://www.moredirt.com/event/1148
X-ALT-DESC;FMTTYPE=text/html:Evans Cycles Hampshire MTB Ride - more details: https://www.moredirt.com/event/1148
LOCATION:
END:VEVENT
END:VCALENDAR