BEGIN:VCALENDAR
VERSION:2.0
PRODID:-//MoreDirt v1.0//EN
BEGIN:VEVENT
DTSTAMP:20150730T130000Z
ORGANIZER;CN=Evans Cycles:MAILTO:
STATUS:CONFIRMED
UID:MORESPORTSNETWORK1146
DTSTART:20151017T080000Z
DTEND:20151017T120000Z
SUMMARY:Evans Cycles Cannock MTB Ride
DESCRIPTION:Evans Cycles Cannock MTB Ride - more details: https://www.moredirt.com/event/1146
X-ALT-DESC;FMTTYPE=text/html:Evans Cycles Cannock MTB Ride - more details: https://www.moredirt.com/event/1146
LOCATION:
END:VEVENT
END:VCALENDAR