BEGIN:VCALENDAR
VERSION:2.0
PRODID:-//MoreDirt v1.0//EN
BEGIN:VEVENT
DTSTAMP:20150730T130000Z
ORGANIZER;CN=Evans Cycles:MAILTO:
STATUS:CONFIRMED
UID:MORESPORTSNETWORK1141
DTSTART:20150725T080000Z
DTEND:20150725T120000Z
SUMMARY:Evans Cycles Cotswolds MTB Ride
DESCRIPTION:Evans Cycles Cotswolds MTB Ride - more details: https://www.moredirt.com/event/1141
X-ALT-DESC;FMTTYPE=text/html:Evans Cycles Cotswolds MTB Ride - more details: https://www.moredirt.com/event/1141
LOCATION:
END:VEVENT
END:VCALENDAR