BEGIN:VCALENDAR
VERSION:2.0
PRODID:-//MoreDirt v1.0//EN
BEGIN:VEVENT
DTSTAMP:20150730T130000Z
ORGANIZER;CN=Alpine Bikes:MAILTO:
STATUS:CONFIRMED
UID:MORESPORTSNETWORK1128
DTSTART:20150411T080000Z
DTEND:20150412T120000Z
SUMMARY:Alpine Bikes Demo Weekend
DESCRIPTION:Alpine Bikes Demo Weekend - more details: https://www.moredirt.com/event/1128
X-ALT-DESC;FMTTYPE=text/html:Alpine Bikes Demo Weekend - more details: https://www.moredirt.com/event/1128
LOCATION:
END:VEVENT
END:VCALENDAR