BEGIN:VCALENDAR
VERSION:2.0
PRODID:-//MoreDirt v1.0//EN
BEGIN:VEVENT
DTSTAMP:20150730T130000Z
ORGANIZER;CN=Breakpad Bike Shop:MAILTO:
STATUS:CONFIRMED
UID:MORESPORTSNETWORK1122
DTSTART:20150308T080000+0000
DTEND:20150308T120000+0000
SUMMARY:The Breakpad Demo Day
DESCRIPTION:The Breakpad Demo Day - more details: https://www.moredirt.com/event/1122
X-ALT-DESC;FMTTYPE=text/html:The Breakpad Demo Day - more details: https://www.moredirt.com/event/1122
LOCATION:
END:VEVENT
END:VCALENDAR