BEGIN:VCALENDAR
VERSION:2.0
PRODID:-//MoreDirt v1.0//EN
BEGIN:VEVENT
DTSTAMP:20150730T130000Z
ORGANIZER;CN=Bird Cycleworks:MAILTO:
STATUS:CONFIRMED
UID:MORESPORTSNETWORK1118
DTSTART:20150705T080000Z
DTEND:20150705T120000Z
SUMMARY:Bird Hardtail Super Series - Rd6
DESCRIPTION:Bird Hardtail Super Series - Rd6 - more details: https://www.moredirt.com/event/1118
X-ALT-DESC;FMTTYPE=text/html:Bird Hardtail Super Series - Rd6 - more details: https://www.moredirt.com/event/1118
LOCATION:
END:VEVENT
END:VCALENDAR