BEGIN:VCALENDAR
VERSION:2.0
PRODID:-//MoreDirt v1.0//EN
BEGIN:VEVENT
DTSTAMP:20150730T130000Z
ORGANIZER;CN=Bird Cycleworks:MAILTO:
STATUS:CONFIRMED
UID:MORESPORTSNETWORK1114
DTSTART:20150405T080000Z
DTEND:20150405T120000Z
SUMMARY:Bird Hardtail Super Series - Rd2
DESCRIPTION:Bird Hardtail Super Series - Rd2 - more details: https://www.moredirt.com/event/1114
X-ALT-DESC;FMTTYPE=text/html:Bird Hardtail Super Series - Rd2 - more details: https://www.moredirt.com/event/1114
LOCATION:
END:VEVENT
END:VCALENDAR