BEGIN:VCALENDAR
VERSION:2.0
PRODID:-//MoreDirt v1.0//EN
BEGIN:VEVENT
DTSTAMP:20150730T130000Z
ORGANIZER;CN=Bird Cycleworks:MAILTO:
STATUS:CONFIRMED
UID:MORESPORTSNETWORK1113
DTSTART:20150301T080000+0000
DTEND:20150301T120000+0000
SUMMARY:Bird Hardtail Super Series - Rd1
DESCRIPTION:Bird Hardtail Super Series - Rd1 - more details: https://www.moredirt.com/event/1113
X-ALT-DESC;FMTTYPE=text/html:Bird Hardtail Super Series - Rd1 - more details: https://www.moredirt.com/event/1113
LOCATION:
END:VEVENT
END:VCALENDAR