BEGIN:VCALENDAR
VERSION:2.0
PRODID:-//MoreDirt v1.0//EN
BEGIN:VEVENT
DTSTAMP:20150730T130000Z
ORGANIZER;CN=Sherwood Pines:MAILTO:
STATUS:CONFIRMED
UID:MORESPORTSNETWORK1109
DTSTART:20150228T080000+0000
DTEND:20150228T120000+0000
SUMMARY:Scott Demo Day
DESCRIPTION:Scott Demo Day - more details: https://www.moredirt.com/event/1109
X-ALT-DESC;FMTTYPE=text/html:Scott Demo Day - more details: https://www.moredirt.com/event/1109
LOCATION:
END:VEVENT
END:VCALENDAR