BEGIN:VCALENDAR
VERSION:2.0
PRODID:-//MoreDirt v1.0//EN
BEGIN:VEVENT
DTSTAMP:20150730T130000Z
ORGANIZER;CN=Summit Cycles:MAILTO:
STATUS:CONFIRMED
UID:MORESPORTSNETWORK1107
DTSTART:20150503T080000Z
DTEND:20150503T120000Z
SUMMARY:Dyfi Enduro
DESCRIPTION:Dyfi Enduro - more details: https://www.moredirt.com/event/1107
X-ALT-DESC;FMTTYPE=text/html:Dyfi Enduro - more details: https://www.moredirt.com/event/1107
LOCATION:
END:VEVENT
END:VCALENDAR