BEGIN:VCALENDAR
VERSION:2.0
PRODID:-//MoreDirt v1.0//EN
BEGIN:VEVENT
DTSTAMP:20150730T130000Z
ORGANIZER;CN=Gravity Project Downhill:MAILTO:
STATUS:CONFIRMED
UID:MORESPORTSNETWORK1106
DTSTART:20150705T080000Z
DTEND:20150705T120000Z
SUMMARY:Honey Series 2015 - Round 5 - Hollycombe
DESCRIPTION:Honey Series 2015 - Round 5 - Hollycombe - more details: https://www.moredirt.com/event/1106
X-ALT-DESC;FMTTYPE=text/html:Honey Series 2015 - Round 5 - Hollycombe - more details: https://www.moredirt.com/event/1106
LOCATION:
END:VEVENT
END:VCALENDAR