BEGIN:VCALENDAR
VERSION:2.0
PRODID:-//MoreDirt v1.0//EN
BEGIN:VEVENT
DTSTAMP:20150730T130000Z
ORGANIZER;CN=Gravity Project Downhill:MAILTO:
STATUS:CONFIRMED
UID:MORESPORTSNETWORK1104
DTSTART:20150509T080000Z
DTEND:20150510T120000Z
SUMMARY:Honey Series 2015 - Round 3 - Avery Farm
DESCRIPTION:Honey Series 2015 - Round 3 - Avery Farm - more details: https://www.moredirt.com/event/1104
X-ALT-DESC;FMTTYPE=text/html:Honey Series 2015 - Round 3 - Avery Farm - more details: https://www.moredirt.com/event/1104
LOCATION:
END:VEVENT
END:VCALENDAR