BEGIN:VCALENDAR
VERSION:2.0
PRODID:-//MoreDirt v1.0//EN
BEGIN:VEVENT
DTSTAMP:20150730T130000Z
ORGANIZER;CN=Mr Adrian Bradley:MAILTO:
STATUS:CONFIRMED
UID:MORESPORTSNETWORK1101
DTSTART:20150725T080000Z
DTEND:20150726T120000Z
SUMMARY:Antur Stiniog Dh Ffest 2015
DESCRIPTION:Antur Stiniog Dh Ffest 2015 - more details: https://www.moredirt.com/event/1101
X-ALT-DESC;FMTTYPE=text/html:Antur Stiniog Dh Ffest 2015 - more details: https://www.moredirt.com/event/1101
LOCATION:
END:VEVENT
END:VCALENDAR