BEGIN:VCALENDAR
VERSION:2.0
PRODID:-//MoreDirt v1.0//EN
BEGIN:VEVENT
DTSTAMP:20150730T130000Z
ORGANIZER;CN=Welsh Enduro Series:MAILTO:
STATUS:CONFIRMED
UID:MORESPORTSNETWORK1088
DTSTART:20150906T080000Z
DTEND:20150906T120000Z
SUMMARY:Welsh Enduro Series - RD3 - Penmachno
DESCRIPTION:Welsh Enduro Series - RD3 - Penmachno - more details: https://www.moredirt.com/event/1088
X-ALT-DESC;FMTTYPE=text/html:Welsh Enduro Series - RD3 - Penmachno - more details: https://www.moredirt.com/event/1088
LOCATION:
END:VEVENT
END:VCALENDAR