BEGIN:VCALENDAR
VERSION:2.0
PRODID:-//MoreDirt v1.0//EN
BEGIN:VEVENT
DTSTAMP:20150730T130000Z
ORGANIZER;CN=Welsh Enduro Series:MAILTO:
STATUS:CONFIRMED
UID:MORESPORTSNETWORK1087
DTSTART:20150531T080000Z
DTEND:20150531T120000Z
SUMMARY:Welsh Enduro Series - RD2 - Marin Trail
DESCRIPTION:Welsh Enduro Series - RD2 - Marin Trail - more details: https://www.moredirt.com/event/1087
X-ALT-DESC;FMTTYPE=text/html:Welsh Enduro Series - RD2 - Marin Trail - more details: https://www.moredirt.com/event/1087
LOCATION:
END:VEVENT
END:VCALENDAR