BEGIN:VCALENDAR
VERSION:2.0
PRODID:-//MoreDirt v1.0//EN
BEGIN:VEVENT
DTSTAMP:20150730T130000Z
ORGANIZER;CN=Scottish Downhill Association:MAILTO:
STATUS:CONFIRMED
UID:MORESPORTSNETWORK1085
DTSTART:20150829T080000Z
DTEND:20150830T120000Z
SUMMARY:Scottish Downhill Association (SDA) - Round 6
DESCRIPTION:Scottish Downhill Association (SDA) - Round 6 - more details: https://www.moredirt.com/event/1085
X-ALT-DESC;FMTTYPE=text/html:Scottish Downhill Association (SDA) - Round 6 - more details: https://www.moredirt.com/event/1085
LOCATION:
END:VEVENT
END:VCALENDAR