BEGIN:VCALENDAR
VERSION:2.0
PRODID:-//MoreDirt v1.0//EN
BEGIN:VEVENT
DTSTAMP:20150730T130000Z
ORGANIZER;CN=On Yer Bike Cycles Ltd:MAILTO:
STATUS:CONFIRMED
UID:MORESPORTSNETWORK1084
DTSTART:20150329T080000Z
DTEND:20150329T120000Z
SUMMARY:On Yer Bike Cycles Demo Day
DESCRIPTION:On Yer Bike Cycles Demo Day - more details: https://www.moredirt.com/event/1084
X-ALT-DESC;FMTTYPE=text/html:On Yer Bike Cycles Demo Day - more details: https://www.moredirt.com/event/1084
LOCATION:
END:VEVENT
END:VCALENDAR