BEGIN:VCALENDAR
VERSION:2.0
PRODID:-//MoreDirt v1.0//EN
BEGIN:VEVENT
DTSTAMP:20150730T130000Z
ORGANIZER;CN=Chris Roberts:MAILTO:
STATUS:CONFIRMED
UID:MORESPORTSNETWORK1080
DTSTART:20150314T080000+0000
DTEND:20150314T120000+0000
SUMMARY:One Industries Mini Enduro /  WGES RD1
DESCRIPTION:One Industries Mini Enduro /  WGES RD1 - more details: https://www.moredirt.com/event/1080
X-ALT-DESC;FMTTYPE=text/html:One Industries Mini Enduro /  WGES RD1 - more details: https://www.moredirt.com/event/1080
LOCATION:
END:VEVENT
END:VCALENDAR