BEGIN:VCALENDAR
VERSION:2.0
PRODID:-//MoreDirt v1.0//EN
BEGIN:VEVENT
DTSTAMP:20150730T130000Z
ORGANIZER;CN=Penshurst Off Road Cycling:MAILTO:
STATUS:CONFIRMED
UID:MORESPORTSNETWORK1078
DTSTART:20150830T080000Z
DTEND:20150830T120000Z
SUMMARY:PORC DH Championship Series 2015 - RD4
DESCRIPTION:PORC DH Championship Series 2015 - RD4 - more details: https://www.moredirt.com/event/1078
X-ALT-DESC;FMTTYPE=text/html:PORC DH Championship Series 2015 - RD4 - more details: https://www.moredirt.com/event/1078
LOCATION:
END:VEVENT
END:VCALENDAR