BEGIN:VCALENDAR
VERSION:2.0
PRODID:-//MoreDirt v1.0//EN
BEGIN:VEVENT
DTSTAMP:20150730T130000Z
ORGANIZER;CN=Red Kite Events:MAILTO:
STATUS:CONFIRMED
UID:MORESPORTSNETWORK1074
DTSTART:20150329T080000Z
DTEND:20150329T120000Z
SUMMARY:The Little Devil MTB 60K Challenge
DESCRIPTION:The Little Devil MTB 60K Challenge - more details: https://www.moredirt.com/event/1074
X-ALT-DESC;FMTTYPE=text/html:The Little Devil MTB 60K Challenge - more details: https://www.moredirt.com/event/1074
LOCATION:
END:VEVENT
END:VCALENDAR