BEGIN:VCALENDAR
VERSION:2.0
PRODID:-//MoreDirt v1.0//EN
BEGIN:VEVENT
DTSTAMP:20150730T130000Z
ORGANIZER;CN=Red Kite Events:MAILTO:
STATUS:CONFIRMED
UID:MORESPORTSNETWORK1070
DTSTART:20150523T080000Z
DTEND:20150525T120000Z
SUMMARY:Mondraker Enduro Series 2015 - Round 3
DESCRIPTION:Mondraker Enduro Series 2015 - Round 3 - more details: https://www.moredirt.com/event/1070
X-ALT-DESC;FMTTYPE=text/html:Mondraker Enduro Series 2015 - Round 3 - more details: https://www.moredirt.com/event/1070
LOCATION:
END:VEVENT
END:VCALENDAR