BEGIN:VCALENDAR
VERSION:2.0
PRODID:-//MoreDirt v1.0//EN
BEGIN:VEVENT
DTSTAMP:20150730T130000Z
ORGANIZER;CN=Red Kite Events:MAILTO:
STATUS:CONFIRMED
UID:MORESPORTSNETWORK1068
DTSTART:20150321T080000+0000
DTEND:20150322T120000+0000
SUMMARY:Mondraker Enduro Series 2015 - Round 1
DESCRIPTION:Mondraker Enduro Series 2015 - Round 1 - more details: https://www.moredirt.com/event/1068
X-ALT-DESC;FMTTYPE=text/html:Mondraker Enduro Series 2015 - Round 1 - more details: https://www.moredirt.com/event/1068
LOCATION:
END:VEVENT
END:VCALENDAR