BEGIN:VCALENDAR
VERSION:2.0
PRODID:-//MoreDirt v1.0//EN
BEGIN:VEVENT
DTSTAMP:20150730T130000Z
ORGANIZER;CN=IDMS:MAILTO:
STATUS:CONFIRMED
UID:MORESPORTSNETWORK1064
DTSTART:20150808T080000Z
DTEND:20150809T120000Z
SUMMARY:Irish Downhill Mountain Bike Series IDMS - Round 4
DESCRIPTION:Irish Downhill Mountain Bike Series IDMS - Round 4 - more details: https://www.moredirt.com/event/1064
X-ALT-DESC;FMTTYPE=text/html:Irish Downhill Mountain Bike Series IDMS - Round 4 - more details: https://www.moredirt.com/event/1064
LOCATION:
END:VEVENT
END:VCALENDAR