BEGIN:VCALENDAR
VERSION:2.0
PRODID:-//MoreDirt v1.0//EN
BEGIN:VEVENT
DTSTAMP:20150730T130000Z
ORGANIZER;CN=Dales Bike Centre:MAILTO:
STATUS:CONFIRMED
UID:MORESPORTSNETWORK1060
DTSTART:20150517T080000Z
DTEND:20150517T120000Z
SUMMARY:Orange Mountain Bikes Demo Day
DESCRIPTION:Orange Mountain Bikes Demo Day - more details: https://www.moredirt.com/event/1060
X-ALT-DESC;FMTTYPE=text/html:Orange Mountain Bikes Demo Day - more details: https://www.moredirt.com/event/1060
LOCATION:
END:VEVENT
END:VCALENDAR