BEGIN:VCALENDAR
VERSION:2.0
PRODID:-//MoreDirt v1.0//EN
BEGIN:VEVENT
DTSTAMP:20150730T130000Z
ORGANIZER;CN=TweedLove:MAILTO:
STATUS:CONFIRMED
UID:MORESPORTSNETWORK105
DTSTART:20110611T080000Z
DTEND:20110611T120000Z
SUMMARY:The Glentress Seven
DESCRIPTION:The Glentress Seven - more details: https://www.moredirt.com/event/105
X-ALT-DESC;FMTTYPE=text/html:The Glentress Seven - more details: https://www.moredirt.com/event/105
LOCATION:
END:VEVENT
END:VCALENDAR