BEGIN:VCALENDAR
VERSION:2.0
PRODID:-//MoreDirt v1.0//EN
BEGIN:VEVENT
DTSTAMP:20150730T130000Z
ORGANIZER;CN=Psyclewerx:MAILTO:
STATUS:CONFIRMED
UID:MORESPORTSNETWORK1056
DTSTART:20150405T080000Z
DTEND:20150405T120000Z
SUMMARY:Psyclewerx MTB Test Day
DESCRIPTION:Psyclewerx MTB Test Day - more details: https://www.moredirt.com/event/1056
X-ALT-DESC;FMTTYPE=text/html:Psyclewerx MTB Test Day - more details: https://www.moredirt.com/event/1056
LOCATION:
END:VEVENT
END:VCALENDAR