BEGIN:VCALENDAR
VERSION:2.0
PRODID:-//MoreDirt v1.0//EN
BEGIN:VEVENT
DTSTAMP:20150730T130000Z
ORGANIZER;CN=Ibis Cycles UK:MAILTO:
STATUS:CONFIRMED
UID:MORESPORTSNETWORK1055
DTSTART:20150214T080000+0000
DTEND:20150214T120000+0000
SUMMARY:Ibis UK Demo Tour 2015 - Demo 1
DESCRIPTION:Ibis UK Demo Tour 2015 - Demo 1 - more details: https://www.moredirt.com/event/1055
X-ALT-DESC;FMTTYPE=text/html:Ibis UK Demo Tour 2015 - Demo 1 - more details: https://www.moredirt.com/event/1055
LOCATION:
END:VEVENT
END:VCALENDAR