BEGIN:VCALENDAR
VERSION:2.0
PRODID:-//MoreDirt v1.0//EN
BEGIN:VEVENT
DTSTAMP:20150730T130000Z
ORGANIZER;CN=Enduro 1:MAILTO:
STATUS:CONFIRMED
UID:MORESPORTSNETWORK1044
DTSTART:20150712T080000Z
DTEND:20150712T120000Z
SUMMARY:Enduro 1 - Round 3 - Great Wood, Quantocks
DESCRIPTION:Enduro 1 - Round 3 - Great Wood, Quantocks - more details: https://www.moredirt.com/event/1044
X-ALT-DESC;FMTTYPE=text/html:Enduro 1 - Round 3 - Great Wood, Quantocks - more details: https://www.moredirt.com/event/1044
LOCATION:
END:VEVENT
END:VCALENDAR