BEGIN:VCALENDAR
VERSION:2.0
PRODID:-//MoreDirt v1.0//EN
BEGIN:VEVENT
DTSTAMP:20150730T130000Z
ORGANIZER;CN=Enduro 1:MAILTO:
STATUS:CONFIRMED
UID:MORESPORTSNETWORK1043
DTSTART:20150503T080000Z
DTEND:20150503T120000Z
SUMMARY:Enduro 1 - Round 2 - Grogley Woods
DESCRIPTION:Enduro 1 - Round 2 - Grogley Woods - more details: https://www.moredirt.com/event/1043
X-ALT-DESC;FMTTYPE=text/html:Enduro 1 - Round 2 - Grogley Woods - more details: https://www.moredirt.com/event/1043
LOCATION:
END:VEVENT
END:VCALENDAR