BEGIN:VCALENDAR
VERSION:2.0
PRODID:-//MoreDirt v1.0//EN
BEGIN:VEVENT
DTSTAMP:20150730T130000Z
ORGANIZER;CN=Aston Hill MTB Club:MAILTO:
STATUS:CONFIRMED
UID:MORESPORTSNETWORK1041
DTSTART:20150906T080000Z
DTEND:20150906T120000Z
SUMMARY:Aston Hill Mash Up Race
DESCRIPTION:Aston Hill Mash Up Race - more details: https://www.moredirt.com/event/1041
X-ALT-DESC;FMTTYPE=text/html:Aston Hill Mash Up Race - more details: https://www.moredirt.com/event/1041
LOCATION:
END:VEVENT
END:VCALENDAR