BEGIN:VCALENDAR
VERSION:2.0
PRODID:-//MoreDirt v1.0//EN
BEGIN:VEVENT
DTSTAMP:20150730T130000Z
ORGANIZER;CN=Chain Reaction Cycles:MAILTO:
STATUS:CONFIRMED
UID:MORESPORTSNETWORK1039
DTSTART:20150314T080000+0000
DTEND:20150315T120000+0000
SUMMARY:Chain Reaction Cycles Demo Event
DESCRIPTION:Chain Reaction Cycles Demo Event - more details: https://www.moredirt.com/event/1039
X-ALT-DESC;FMTTYPE=text/html:Chain Reaction Cycles Demo Event - more details: https://www.moredirt.com/event/1039
LOCATION:
END:VEVENT
END:VCALENDAR