BEGIN:VCALENDAR
VERSION:2.0
PRODID:-//MoreDirt v1.0//EN
BEGIN:VEVENT
DTSTAMP:20150730T130000Z
ORGANIZER;CN=MTB Uplifts:MAILTO:
STATUS:CONFIRMED
UID:MORESPORTSNETWORK1035
DTSTART:20150222T080000+0000
DTEND:20150222T120000+0000
SUMMARY:MTB Uplifts - Moelfre
DESCRIPTION:MTB Uplifts - Moelfre - more details: https://www.moredirt.com/event/1035
X-ALT-DESC;FMTTYPE=text/html:MTB Uplifts - Moelfre - more details: https://www.moredirt.com/event/1035
LOCATION:
END:VEVENT
END:VCALENDAR