BEGIN:VCALENDAR
VERSION:2.0
PRODID:-//MoreDirt v1.0//EN
BEGIN:VEVENT
DTSTAMP:20150730T130000Z
ORGANIZER;CN=Scottish Enduro Series:MAILTO:
STATUS:CONFIRMED
UID:MORESPORTSNETWORK1022
DTSTART:20150418T080000Z
DTEND:20150419T120000Z
SUMMARY:POC Scottish Enduro 2015 - Round 2
DESCRIPTION:POC Scottish Enduro 2015 - Round 2 - more details: https://www.moredirt.com/event/1022
X-ALT-DESC;FMTTYPE=text/html:POC Scottish Enduro 2015 - Round 2 - more details: https://www.moredirt.com/event/1022
LOCATION:
END:VEVENT
END:VCALENDAR