BEGIN:VCALENDAR
VERSION:2.0
PRODID:-//MoreDirt v1.0//EN
BEGIN:VEVENT
DTSTAMP:20150730T130000Z
ORGANIZER;CN=Scottish Enduro Series:MAILTO:
STATUS:CONFIRMED
UID:MORESPORTSNETWORK1021
DTSTART:20150307T080000+0000
DTEND:20150308T120000+0000
SUMMARY:POC Scottish Enduro 2015 - Round 1
DESCRIPTION:POC Scottish Enduro 2015 - Round 1 - more details: https://www.moredirt.com/event/1021
X-ALT-DESC;FMTTYPE=text/html:POC Scottish Enduro 2015 - Round 1 - more details: https://www.moredirt.com/event/1021
LOCATION:
END:VEVENT
END:VCALENDAR