BEGIN:VCALENDAR
VERSION:2.0
PRODID:-//MoreDirt v1.0//EN
BEGIN:VEVENT
DTSTAMP:20150730T130000Z
ORGANIZER;CN=Highland Perthshire Cycling:MAILTO:
STATUS:CONFIRMED
UID:MORESPORTSNETWORK1020
DTSTART:20150502T080000Z
DTEND:20150502T120000Z
SUMMARY:Dunkeld Enduro
DESCRIPTION:Dunkeld Enduro - more details: https://www.moredirt.com/event/1020
X-ALT-DESC;FMTTYPE=text/html:Dunkeld Enduro - more details: https://www.moredirt.com/event/1020
LOCATION:
END:VEVENT
END:VCALENDAR