BEGIN:VCALENDAR
VERSION:2.0
PRODID:-//MoreDirt v1.0//EN
BEGIN:VEVENT
DTSTAMP:20150730T130000Z
ORGANIZER;CN=QE Cycle Fest:MAILTO:
STATUS:CONFIRMED
UID:MORESPORTSNETWORK1019
DTSTART:20150516T080000Z
DTEND:20150517T120000Z
SUMMARY:QE Cycle Fest
DESCRIPTION:QE Cycle Fest - more details: https://www.moredirt.com/event/1019
X-ALT-DESC;FMTTYPE=text/html:QE Cycle Fest - more details: https://www.moredirt.com/event/1019
LOCATION:
END:VEVENT
END:VCALENDAR