BEGIN:VCALENDAR
VERSION:2.0
PRODID:-//MoreDirt v1.0//EN
BEGIN:VEVENT
DTSTAMP:20150730T130000Z
ORGANIZER;CN=A Cycling:MAILTO:
STATUS:CONFIRMED
UID:MORESPORTSNETWORK1015
DTSTART:20150815T080000Z
DTEND:20150819T120000Z
SUMMARY:Epic Cymru
DESCRIPTION:Epic Cymru - more details: https://www.moredirt.com/event/1015
X-ALT-DESC;FMTTYPE=text/html:Epic Cymru - more details: https://www.moredirt.com/event/1015
LOCATION:
END:VEVENT
END:VCALENDAR