BEGIN:VCALENDAR
VERSION:2.0
PRODID:-//MoreDirt v1.0//EN
BEGIN:VEVENT
DTSTAMP:20150730T130000Z
ORGANIZER;CN=Chris Roberts:MAILTO:
STATUS:CONFIRMED
UID:MORESPORTSNETWORK1010
DTSTART:20150517T080000Z
DTEND:20150517T120000Z
SUMMARY:Schwalbe British 4X Series - Round 2
DESCRIPTION:Schwalbe British 4X Series - Round 2 - more details: https://www.moredirt.com/event/1010
X-ALT-DESC;FMTTYPE=text/html:Schwalbe British 4X Series - Round 2 - more details: https://www.moredirt.com/event/1010
LOCATION:
END:VEVENT
END:VCALENDAR